BEGIN:VCALENDAR
VERSION:2.0
PRODID:-//Falla Pere Cabanes-Joan XXIII - ECPv6.0.10//NONSGML v1.0//EN
CALSCALE:GREGORIAN
METHOD:PUBLISH
X-WR-CALNAME:Falla Pere Cabanes-Joan XXIII
X-ORIGINAL-URL:https://falla374.com
X-WR-CALDESC:Eventos para Falla Pere Cabanes-Joan XXIII
REFRESH-INTERVAL;VALUE=DURATION:PT1H
X-Robots-Tag:noindex
X-PUBLISHED-TTL:PT1H
BEGIN:VTIMEZONE
TZID:Europe/Paris
BEGIN:DAYLIGHT
TZOFFSETFROM:+0100
TZOFFSETTO:+0200
TZNAME:CEST
DTSTART:20190331T010000
END:DAYLIGHT
BEGIN:STANDARD
TZOFFSETFROM:+0200
TZOFFSETTO:+0100
TZNAME:CET
DTSTART:20191027T010000
END:STANDARD
END:VTIMEZONE
BEGIN:VEVENT
DTSTART;VALUE=DATE:20191115
DTEND;VALUE=DATE:20191117
DTSTAMP:20260424T155029
CREATED:20191104T182311Z
LAST-MODIFIED:20191104T182311Z
UID:588-1573779600-1573865999@falla374.com
SUMMARY:Junta General\, novembre 2019
DESCRIPTION:
URL:https://falla374.com/acte/junta-general-novembre-2019
LOCATION:Falla Pere Cabanes – Joan XXIII\, Calle Pintora Manuela Ballester\, Valencia\, Valencia\, 46025\, España
ATTACH;FMTTYPE=image/png:https://falla374.com/wp-content/uploads/2019/11/Junta-General.png
END:VEVENT
BEGIN:VEVENT
DTSTART;VALUE=DATE:20191115
DTEND;VALUE=DATE:20191117
DTSTAMP:20260424T155029
CREATED:20191104T181555Z
LAST-MODIFIED:20191104T181555Z
UID:584-1573779600-1573865999@falla374.com
SUMMARY:'Garín\, 200 anys d'història' (Jornades Culturals 2020)
DESCRIPTION:
URL:https://falla374.com/acte/garin-200-anys-dhistoria-jornades-culturals-2020
LOCATION:Falla Pere Cabanes – Joan XXIII\, Calle Pintora Manuela Ballester\, Valencia\, Valencia\, 46025\, España
ATTACH;FMTTYPE=image/png:https://falla374.com/wp-content/uploads/2019/11/Carteles-Jornadas-Culturales-2019-2020-3.png
END:VEVENT
BEGIN:VEVENT
DTSTART;VALUE=DATE:20191108
DTEND;VALUE=DATE:20191110
DTSTAMP:20260424T155029
CREATED:20191104T181213Z
LAST-MODIFIED:20191104T181213Z
UID:575-1573174800-1573261199@falla374.com
SUMMARY:Festa Germanor Benicampa
DESCRIPTION:
URL:https://falla374.com/acte/festa-germanor-benicampa
LOCATION:Sala Jerusalem\, Caller Convento Jerusalén\, Valencia\, Valencia\, España
ATTACH;FMTTYPE=image/jpeg:https://falla374.com/wp-content/uploads/2019/11/WhatsApp-Image-2019-10-08-at-12.05.38.jpeg
END:VEVENT
BEGIN:VEVENT
DTSTART;VALUE=DATE:20191108
DTEND;VALUE=DATE:20191110
DTSTAMP:20260424T155029
CREATED:20191104T181043Z
LAST-MODIFIED:20191104T181043Z
UID:572-1573174800-1573261199@falla374.com
SUMMARY:Presentació Esbossos 2020
DESCRIPTION:
URL:https://falla374.com/acte/presentacio-esbossos-2020
LOCATION:Falla Pere Cabanes – Joan XXIII\, Calle Pintora Manuela Ballester\, Valencia\, Valencia\, 46025\, España
ATTACH;FMTTYPE=image/png:https://falla374.com/wp-content/uploads/2019/11/Carteles-Jornadas-Culturales-2019-2020-2.png
END:VEVENT
BEGIN:VEVENT
DTSTART;VALUE=DATE:20191104
DTEND;VALUE=DATE:20191113
DTSTAMP:20260424T155029
CREATED:20191104T182446Z
LAST-MODIFIED:20191104T182446Z
UID:591-1572829200-1573520399@falla374.com
SUMMARY:Jornades Culturals 'Pepe Monforte' de Benicampa
DESCRIPTION:
URL:https://falla374.com/acte/jornades-culturals-pepe-monforte-de-benicampa
LOCATION:Valencia
ATTACH;FMTTYPE=image/jpeg:https://falla374.com/wp-content/uploads/2019/11/Pepe-monforte.jpg
END:VEVENT
BEGIN:VEVENT
DTSTART;VALUE=DATE:20191031
DTEND;VALUE=DATE:20191102
DTSTAMP:20260424T155029
CREATED:20191007T171355Z
LAST-MODIFIED:20191007T171417Z
UID:388-1572483600-1572569999@falla374.com
SUMMARY:Halloween 2019
DESCRIPTION:El 31 d’octubre celebrarem Halloween amb festa per a comissió infantil i major al nostre casal\, de vesprada i nit
URL:https://falla374.com/acte/halloween-2019
LOCATION:Valencia
END:VEVENT
BEGIN:VEVENT
DTSTART;VALUE=DATE:20191026
DTEND;VALUE=DATE:20191028
DTSTAMP:20260424T155029
CREATED:20191007T171059Z
LAST-MODIFIED:20191007T171422Z
UID:386-1572051600-1572137999@falla374.com
SUMMARY:Proclamació Fallera Major 2020
DESCRIPTION:Cóctel i acte de Proclamació de nostra Fallera Major 2020\, Sara Martínez Guillem. \nL’acte serà al casal\, de nit\, per a tota la comissió major.
URL:https://falla374.com/acte/proclamacio-fallera-major-2020
LOCATION:Valencia
END:VEVENT
BEGIN:VEVENT
DTSTART;VALUE=DATE:20191019
DTEND;VALUE=DATE:20191021
DTSTAMP:20260424T155029
CREATED:20191007T171021Z
LAST-MODIFIED:20191007T171021Z
UID:384-1571446800-1571533199@falla374.com
SUMMARY:Proclamació Fallera Major Infantil 2020
DESCRIPTION:Berenar de gala i acte de Proclamació de nostra Fallera Major Infantil 2020\, Amparo Roque García. \nL’acte serà al casal\, de vesprada\, per a tota la comissió infantil.
URL:https://falla374.com/acte/proclamacio-fallera-major-infantil-2020
LOCATION:Valencia
END:VEVENT
BEGIN:VEVENT
DTSTART;VALUE=DATE:20190728
DTEND;VALUE=DATE:20190730
DTSTAMP:20260424T155029
CREATED:20190722T150022Z
LAST-MODIFIED:20190722T150022Z
UID:304-1564275600-1564361999@falla374.com
SUMMARY:Batalla de Flors
DESCRIPTION:Per segon any consecutiu la compra on line de les llotges per a la Batalla de Flors de la Gran Fira de València es realitzarà per sorteig\, garantint així la igualtat d’oportunitats entre totes les persones interessades. Este divendres\, dia 19\, a les 12 del migdia s’obrirà el termini per a inscriure’s en eixe sorteig. \nEl procés d’inscripció conclourà la nit de dilluns\, dia 22\, a les 24 hores. Per participar al sorteig les persones interessades hauran d’emplenar amb les seues dades personals un formulari al web www.batalladeflors.com. Rebran un número únic per a participar al sorteig\, que se celebrarà el pròxim dimarts\, dia 23\, davant notari a la sala de premsa de l’Ajuntament de València.
URL:https://falla374.com/acte/batalla-de-flors
LOCATION:Passeig de l’Albereda\, Passeig de l'Albereda\, Valencia\, Valencia\, España
ATTACH;FMTTYPE=image/jpeg:https://falla374.com/wp-content/uploads/2019/07/Batalla.jpg
END:VEVENT
BEGIN:VEVENT
DTSTART;VALUE=DATE:20190727
DTEND;VALUE=DATE:20190729
DTSTAMP:20260424T155029
CREATED:20190722T145827Z
LAST-MODIFIED:20190722T151728Z
UID:300-1564189200-1564275599@falla374.com
SUMMARY:Sopar de la Punxà
DESCRIPTION:Com és habitual\, els tiquets del sopar de la Punxà s’estan venent en el bar del pavelló nord del Palau de la Música. Tenen un preu de 10 euros. La venda en el bar del pavelló nord del Palau es farà fins dijous dia 25 de juliol en horari de 18:00 a 00:00 hores. \nEl sopar de la punxà tindrà lloc el 27 de juliol a les 21:30 hores\, es tracta de l’última vetlada abans del majestuós final de la Fira de juliol en la Batalla de les Flors. Els artistes de les carrosses es reuneixen als diferents tallers per a donar el toc final a les seues creacions. Els fallers\, disposats a animar-los i a no perdre’s una nit única\, els acompanyen a taules col·locades a través dels emblemàtics carrers que formen la Ciutat de l’Artista Faller.
URL:https://falla374.com/acte/sopar-de-la-punxa-2020
LOCATION:Ciutat de l’Artista Faller\, Ciutat del Artista Faller\, Valencia\, Valencia\, España
ATTACH;FMTTYPE=image/jpeg:https://falla374.com/wp-content/uploads/2019/07/punx.jpg
END:VEVENT
BEGIN:VEVENT
DTSTART;TZID=Europe/Paris:20190721T210000
DTEND;TZID=Europe/Paris:20190722T003000
DTSTAMP:20260424T155029
CREATED:20190709T173805Z
LAST-MODIFIED:20190709T173805Z
UID:191-1563742800-1563755400@falla374.com
SUMMARY:Preselecció Sector Benicalap
DESCRIPTION:El Sector de Benicalap torna a realitzar la seua Preselecció de manera conjunta amb el de Campanar el diumenge 21 de juliol\, a partir de les 20.00 hores. L’acte estarà amenitzat pel grup de ball de la Federació Benicampa\, dirigit per nostra fallera Raquel Gallego\, i que compta amb altres membres de diferents Falles\, i també de la nostra. \nAmanda Martínez Lluch i Laura López Pérez són les nostres candidates a esta Preselecció que té una particularitat: Cada Falla membre proposa a un jurat\, i els jurats de Benicalap seran els que voten a Campanar i viceversa. Després de l’acte\, el casal s’obrirà per a celebrar el bon resultat de les nostres candidates.
URL:https://falla374.com/acte/preseleccio-sector-benicalap
LOCATION:Pabelló Nord del Palau de la Música\, Passeig de l'Albereda\, 30\, Valencia\, Valencia\, 46023\, España
ATTACH;FMTTYPE=image/jpeg:https://falla374.com/wp-content/uploads/2019/07/Preselecc.jpg
END:VEVENT
BEGIN:VEVENT
DTSTART;TZID=Europe/Paris:20190711T210000
DTEND;TZID=Europe/Paris:20190711T230000
DTSTAMP:20260424T155029
CREATED:20190709T172706Z
LAST-MODIFIED:20190709T172706Z
UID:186-1562878800-1562886000@falla374.com
SUMMARY:Benvinguda Federació Amics de la Pólvora
DESCRIPTION:La Federació Amics de la Pólvora de Benicalap ens convida a un vi d’honor al nostre casal per a donar-nos la benvinguda a esta unió\, que té el seu màxim acte a la setmana fallera per a disparar una mascletà universal\, la segona d’esta Federació\, que va nàixer l’any 2019 amb set comissions de Benicalap.
URL:https://falla374.com/acte/benvinguda-federacio-amics-de-la-polvora
LOCATION:Falla Pere Cabanes – Joan XXIII\, Calle Pintora Manuela Ballester\, Valencia\, Valencia\, 46025\, España
ATTACH;FMTTYPE=image/png:https://falla374.com/wp-content/uploads/2019/07/amics.png
END:VEVENT
END:VCALENDAR