BEGIN:VCALENDAR
VERSION:2.0
PRODID:-//Falla Pere Cabanes-Joan XXIII - ECPv6.0.10//NONSGML v1.0//EN
CALSCALE:GREGORIAN
METHOD:PUBLISH
X-ORIGINAL-URL:https://falla374.com
X-WR-CALDESC:Eventos para Falla Pere Cabanes-Joan XXIII
REFRESH-INTERVAL;VALUE=DURATION:PT1H
X-Robots-Tag:noindex
X-PUBLISHED-TTL:PT1H
BEGIN:VTIMEZONE
TZID:Europe/Paris
BEGIN:DAYLIGHT
TZOFFSETFROM:+0100
TZOFFSETTO:+0200
TZNAME:CEST
DTSTART:20190331T010000
END:DAYLIGHT
BEGIN:STANDARD
TZOFFSETFROM:+0200
TZOFFSETTO:+0100
TZNAME:CET
DTSTART:20191027T010000
END:STANDARD
BEGIN:DAYLIGHT
TZOFFSETFROM:+0100
TZOFFSETTO:+0200
TZNAME:CEST
DTSTART:20200329T010000
END:DAYLIGHT
BEGIN:STANDARD
TZOFFSETFROM:+0200
TZOFFSETTO:+0100
TZNAME:CET
DTSTART:20201025T010000
END:STANDARD
END:VTIMEZONE
BEGIN:VEVENT
DTSTART;VALUE=DATE:20200207
DTEND;VALUE=DATE:20200209
DTSTAMP:20260422T124411
CREATED:20200203T134133Z
LAST-MODIFIED:20200203T134133Z
UID:981-1581037200-1581123599@falla374.com
SUMMARY:Junta General de febrero
DESCRIPTION:Junta General Ordinaria del mes de febrero\, en el casal y a partir de las 23.00 horas\, con la información pertinente de cada Delegación y\, además\, ruegos y preguntas que se planteen.
URL:https://falla374.com/acte/junta-general-de-febrero
LOCATION:Falla Pere Cabanes – Joan XXIII\, Calle Pintora Manuela Ballester\, Valencia\, Valencia\, 46025\, España
ATTACH;FMTTYPE=image/png:https://falla374.com/wp-content/uploads/2019/11/Junta-General.png
END:VEVENT
BEGIN:VEVENT
DTSTART;VALUE=DATE:20200201
DTEND;VALUE=DATE:20200203
DTSTAMP:20260422T124411
CREATED:20200126T110207Z
LAST-MODIFIED:20200126T110416Z
UID:935-1580518800-1580605199@falla374.com
SUMMARY:Homenatge a Azahara\, Cort d'Honor 2019
DESCRIPTION:Acte d’homenatge a la Cort d’Honor de la Fallera Major de València 2019\, i membre de nostra comissió\, Azahara Vallet Sánchez.
URL:https://falla374.com/acte/homenatge-a-azahara-cort-dhonor-2019
LOCATION:Seu Federació de Falles Benicalap-Campanar\, Valencia\, Valencia\, España
ATTACH;FMTTYPE=image/jpeg:https://falla374.com/wp-content/uploads/2020/01/WhatsApp-Image-2020-01-26-at-12.09.43.jpeg
END:VEVENT
BEGIN:VEVENT
DTSTART;VALUE=DATE:20200105
DTEND;VALUE=DATE:20200107
DTSTAMP:20260422T124411
CREATED:20191229T095312Z
LAST-MODIFIED:20191229T095312Z
UID:826-1578186000-1578272399@falla374.com
SUMMARY:Visita Reis Mags d'Orient 2020
DESCRIPTION:El diumenge 5 de gener a partir de les 18.30 hores rebrem la visita dels Reis Mags d’Orient al nostre casal.
URL:https://falla374.com/acte/visita-reis-mags-dorient-2020
LOCATION:Falla Pere Cabanes – Joan XXIII\, Calle Pintora Manuela Ballester\, Valencia\, Valencia\, 46025\, España
ATTACH;FMTTYPE=image/png:https://falla374.com/wp-content/uploads/2019/12/visita-reis-mags-dorient.png
END:VEVENT
BEGIN:VEVENT
DTSTART;VALUE=DATE:20191231
DTEND;VALUE=DATE:20200102
DTSTAMP:20260422T124411
CREATED:20191229T100230Z
LAST-MODIFIED:20191229T100230Z
UID:833-1577754000-1577840399@falla374.com
SUMMARY:Nit de cap d'any 2019-2020
DESCRIPTION:Sopar entre amics al casal. El preu es dividirà entre les persones que vinguen esta nit de 31 de desembre a disfrutar de la nit de cap d’any. Heu d’apuntar-vos a les llistes que tenim al casal!
URL:https://falla374.com/acte/nit-de-cap-dany-2019-2020
LOCATION:Falla Pere Cabanes – Joan XXIII\, Calle Pintora Manuela Ballester\, Valencia\, Valencia\, 46025\, España
ATTACH;FMTTYPE=image/jpeg:https://falla374.com/wp-content/uploads/2019/12/2020.jpg
END:VEVENT
BEGIN:VEVENT
DTSTART;VALUE=DATE:20191230
DTEND;VALUE=DATE:20200101
DTSTAMP:20260422T124411
CREATED:20191229T095559Z
LAST-MODIFIED:20191229T095559Z
UID:829-1577667600-1577753999@falla374.com
SUMMARY:Visita a ExpoJove 2019-2020
DESCRIPTION:Dilluns 30 de desembre anirem a Fira València per a poder visitar i divertir-nos en ExpoJove 2019-2020. L’entrada per a fallers és gratis!
URL:https://falla374.com/acte/visita-a-expojove-2019-2020
LOCATION:Fira València\, València\, València\, España
ATTACH;FMTTYPE=image/png:https://falla374.com/wp-content/uploads/2019/12/expojove.png
END:VEVENT
BEGIN:VEVENT
DTSTART;VALUE=DATE:20191228
DTEND;VALUE=DATE:20191230
DTSTAMP:20260422T124411
CREATED:20191205T153011Z
LAST-MODIFIED:20191205T153011Z
UID:757-1577494800-1577581199@falla374.com
SUMMARY:Festival Solidari de Benicampa 2019
DESCRIPTION:
URL:https://falla374.com/acte/festival-solidari-de-benicampa-2019
LOCATION:Seu Federació de Falles Benicalap-Campanar\, Valencia\, Valencia\, España
ATTACH;FMTTYPE=image/jpeg:https://falla374.com/wp-content/uploads/2019/12/Solidaria-002.jpg
END:VEVENT
BEGIN:VEVENT
DTSTART;VALUE=DATE:20191228
DTEND;VALUE=DATE:20191230
DTSTAMP:20260422T124411
CREATED:20191205T152923Z
LAST-MODIFIED:20191205T152923Z
UID:753-1577494800-1577581199@falla374.com
SUMMARY:Festival Solidari de Benicampa infantil 2019
DESCRIPTION:
URL:https://falla374.com/acte/festival-solidari-de-benicampa-infantil-2019
LOCATION:Seu Federació de Falles Benicalap-Campanar\, Valencia\, Valencia\, España
ATTACH;FMTTYPE=image/jpeg:https://falla374.com/wp-content/uploads/2019/12/Solidaria-001.jpg
END:VEVENT
BEGIN:VEVENT
DTSTART;VALUE=DATE:20191223
DTEND;VALUE=DATE:20191225
DTSTAMP:20260422T124411
CREATED:20191104T181318Z
LAST-MODIFIED:20191104T181318Z
UID:579-1577062800-1577149199@falla374.com
SUMMARY:Visita al Teatro Flumen
DESCRIPTION:
URL:https://falla374.com/acte/visita-al-teatro-flumen
LOCATION:Teatro Flumen\, Valencia\, Valencia\, España
ATTACH;FMTTYPE=image/jpeg:https://falla374.com/wp-content/uploads/2019/11/Flumen-Benicampa-Mago-de-Oz.jpeg
END:VEVENT
BEGIN:VEVENT
DTSTART;VALUE=DATE:20191214
DTEND;VALUE=DATE:20200106
DTSTAMP:20260422T124411
CREATED:20191210T132652Z
LAST-MODIFIED:20191210T132652Z
UID:770-1576285200-1578185999@falla374.com
SUMMARY:Campanya solidària: 'Cap xiquet sense joguet' 2019-2020
DESCRIPTION:Cap xiquet sense joguet !!\n\n\nFins al de gener\, podeu aportar els vostres joguets per als menuts que més els necessiten\n\n\n▶️ Cada dia que el casal estiga obert podreu deixar el o els vostres joguets\n\n\n⚽️ Prompte vos informarem de més detalls d’esta nova campanya solidària!
URL:https://falla374.com/acte/campanya-solidaria-cap-xiquet-sense-joguet-2019-2020
LOCATION:Falla Pere Cabanes – Joan XXIII\, Calle Pintora Manuela Ballester\, Valencia\, Valencia\, 46025\, España
ATTACH;FMTTYPE=image/jpeg:https://falla374.com/wp-content/uploads/2019/12/Juguetes-inf.jpeg
END:VEVENT
BEGIN:VEVENT
DTSTART;VALUE=DATE:20191214
DTEND;VALUE=DATE:20191216
DTSTAMP:20260422T124411
CREATED:20191208T142115Z
LAST-MODIFIED:20191208T142115Z
UID:764-1576285200-1576371599@falla374.com
SUMMARY:Sopar de Nadal 2019-2020
DESCRIPTION:Menú especial\, beguda i postre per 20 euros. \nLes confirmacions\, abans del 11 de desembre.
URL:https://falla374.com/acte/sopar-de-nadal-2019-2020
LOCATION:Falla Pere Cabanes – Joan XXIII\, Calle Pintora Manuela Ballester\, Valencia\, Valencia\, 46025\, España
ATTACH;FMTTYPE=image/jpeg:https://falla374.com/wp-content/uploads/2019/12/Sopar-Nadal.jpg
END:VEVENT
BEGIN:VEVENT
DTSTART;VALUE=DATE:20191213
DTEND;VALUE=DATE:20191215
DTSTAMP:20260422T124411
CREATED:20191208T143509Z
LAST-MODIFIED:20191208T143509Z
UID:767-1576198800-1576285199@falla374.com
SUMMARY:Sopar de Nadal infantil 2019-2020
DESCRIPTION:A partir de les 19.30 hores del divendres 13 de desembre.
URL:https://falla374.com/acte/sopar-de-nadal-infantil-2019-2020
LOCATION:Falla Pere Cabanes – Joan XXIII\, Calle Pintora Manuela Ballester\, Valencia\, Valencia\, 46025\, España
ATTACH;FMTTYPE=image/png:https://falla374.com/wp-content/uploads/2019/12/Sopar-Nadal-Infantil.png
END:VEVENT
BEGIN:VEVENT
DTSTART;VALUE=DATE:20191213
DTEND;VALUE=DATE:20191215
DTSTAMP:20260422T124411
CREATED:20191208T141810Z
LAST-MODIFIED:20191208T141810Z
UID:761-1576198800-1576285199@falla374.com
SUMMARY:Junta General Ordinària de desembre
DESCRIPTION:A partir de les 23.00 hores del 13 de desembre al nostre casal.
URL:https://falla374.com/acte/junta-general-ordinaria-de-desembre
LOCATION:Falla Pere Cabanes – Joan XXIII\, Calle Pintora Manuela Ballester\, Valencia\, Valencia\, 46025\, España
ATTACH;FMTTYPE=image/png:https://falla374.com/wp-content/uploads/2019/11/Junta-General.png
END:VEVENT
BEGIN:VEVENT
DTSTART;VALUE=DATE:20191205
DTEND;VALUE=DATE:20191207
DTSTAMP:20260422T124411
CREATED:20191204T100843Z
LAST-MODIFIED:20191204T100843Z
UID:747-1575507600-1575593999@falla374.com
SUMMARY:Taller falla infantil 2020
DESCRIPTION:Dijous 5 de desembre a partir de les 18.30 hores\, farem un taller molt especial per a completar la nostra falla infantil 2020\, obra de Santi Muñoz.
URL:https://falla374.com/acte/taller-falla-infantil-2020
LOCATION:Falla Pere Cabanes – Joan XXIII\, Calle Pintora Manuela Ballester\, Valencia\, Valencia\, 46025\, España
ATTACH;FMTTYPE=image/png:https://falla374.com/wp-content/uploads/2019/12/Taller-falla-inf.png
END:VEVENT
BEGIN:VEVENT
DTSTART;VALUE=DATE:20191204
DTEND;VALUE=DATE:20191216
DTSTAMP:20260422T124411
CREATED:20191204T174048Z
LAST-MODIFIED:20191204T174048Z
UID:750-1575421200-1576371599@falla374.com
SUMMARY:Nadal al casal
DESCRIPTION:Del 4 al 14 de desembre\, la nostra Falla tindrà el casal ben obert per a poder gojar del Nadal amb esdeveniments especials per a infantils i majors.
URL:https://falla374.com/acte/nadal-al-casal
LOCATION:Falla Pere Cabanes – Joan XXIII\, Calle Pintora Manuela Ballester\, Valencia\, Valencia\, 46025\, España
ATTACH;FMTTYPE=image/png:https://falla374.com/wp-content/uploads/2019/12/Falla-Navidad.png
END:VEVENT
BEGIN:VEVENT
DTSTART;VALUE=DATE:20191130
DTEND;VALUE=DATE:20191202
DTSTAMP:20260422T124411
CREATED:20191104T182543Z
LAST-MODIFIED:20191104T182543Z
UID:594-1575075600-1575161999@falla374.com
SUMMARY:Actuació grup de Playbacks infantil
DESCRIPTION:
URL:https://falla374.com/acte/actuacio-grup-de-playbacks-infantil
LOCATION:Sala Canal\, Pinedo\, Valencia\, España
ATTACH;FMTTYPE=image/jpeg:https://falla374.com/wp-content/uploads/2019/11/Cabanesaurus.jpg
END:VEVENT
BEGIN:VEVENT
DTSTART;VALUE=DATE:20191129
DTEND;VALUE=DATE:20191201
DTSTAMP:20260422T124411
CREATED:20191114T175438Z
LAST-MODIFIED:20191114T175438Z
UID:616-1574989200-1575075599@falla374.com
SUMMARY:Xarrada: 'El valor de l'encaix'
DESCRIPTION:Antigüedades Me Encanta ens convida per a poder conèixer les millors i diferents formes de vestir la mantellina en el tratge de fallera quan acudim a actes religosos\, com ara l’Ofrena a la Verge dels Desamparats\, o la misa per Sant Josep.
URL:https://falla374.com/acte/xarrada-el-valor-de-lencaix
LOCATION:Falla Pere Cabanes – Joan XXIII\, Calle Pintora Manuela Ballester\, Valencia\, Valencia\, 46025\, España
ATTACH;FMTTYPE=image/png:https://falla374.com/wp-content/uploads/2019/11/Carteles-Jornadas-Culturales-2019-2020-5.png
END:VEVENT
BEGIN:VEVENT
DTSTART;VALUE=DATE:20191122
DTEND;VALUE=DATE:20191124
DTSTAMP:20260422T124411
CREATED:20191114T175132Z
LAST-MODIFIED:20191114T175132Z
UID:612-1574384400-1574470799@falla374.com
SUMMARY:Xarrada: 'Nous horitzons'
DESCRIPTION:Rafa Soler moderarà una taula redona amb artistes fallers\, escultors digitals i dissenyadors com ara Raúl Martínez ‘Chuky’\, Dani Gomz\, Paco Camallonga\, Carlos Benavent i Juane Cortell debatiran de la importància del disseny en la falla.
URL:https://falla374.com/acte/xarrada-nous-horitzons
LOCATION:Falla Pere Cabanes – Joan XXIII\, Calle Pintora Manuela Ballester\, Valencia\, Valencia\, 46025\, España
ATTACH;FMTTYPE=image/png:https://falla374.com/wp-content/uploads/2019/11/Carteles-Jornadas-Culturales-2019-2020-4.png
END:VEVENT
BEGIN:VEVENT
DTSTART;VALUE=DATE:20191116
DTEND;VALUE=DATE:20191118
DTSTAMP:20260422T124411
CREATED:20191114T180848Z
LAST-MODIFIED:20191114T180848Z
UID:622-1573866000-1573952399@falla374.com
SUMMARY:Halloween 2019
DESCRIPTION:Berenar infantil amb decoració de molta por… És hora de celebrar Halloween al casal!
URL:https://falla374.com/acte/halloween-2019-2
LOCATION:Falla Pere Cabanes – Joan XXIII\, Calle Pintora Manuela Ballester\, Valencia\, Valencia\, 46025\, España
ATTACH;FMTTYPE=image/png:https://falla374.com/wp-content/uploads/2019/11/halloween-2019-1.png
END:VEVENT
BEGIN:VEVENT
DTSTART;VALUE=DATE:20191116
DTEND;VALUE=DATE:20191118
DTSTAMP:20260422T124411
CREATED:20191114T180028Z
LAST-MODIFIED:20191114T180028Z
UID:619-1573866000-1573952399@falla374.com
SUMMARY:Monòlegs de Traca
DESCRIPTION:Vesprada amb monòlegs\, sopar\, tardeo y Dj amb els companys i companyes de la Federació Amics de la Pólvora de Benicalap.
URL:https://falla374.com/acte/monolegs-de-traca
LOCATION:Ciutat de l’Artista Faller\, Ciutat del Artista Faller\, Valencia\, Valencia\, España
ATTACH;FMTTYPE=image/jpeg:https://falla374.com/wp-content/uploads/2019/11/Traca-000.jpg
END:VEVENT
BEGIN:VEVENT
DTSTART;VALUE=DATE:20191115
DTEND;VALUE=DATE:20191117
DTSTAMP:20260422T124411
CREATED:20191113T161733Z
LAST-MODIFIED:20191113T161733Z
UID:608-1573779600-1573865999@falla374.com
SUMMARY:Loteria al casal
DESCRIPTION:De 18.30 a 20.30 hores\, la Delegació de Loteries estarà al casal per a poder fer els tràmits habituals.
URL:https://falla374.com/acte/loteria-al-casal
LOCATION:Falla Pere Cabanes – Joan XXIII\, Calle Pintora Manuela Ballester\, Valencia\, Valencia\, 46025\, España
ATTACH;FMTTYPE=image/png:https://falla374.com/wp-content/uploads/2019/11/IMG_7710.png
END:VEVENT
BEGIN:VEVENT
DTSTART;VALUE=DATE:20191115
DTEND;VALUE=DATE:20191117
DTSTAMP:20260422T124411
CREATED:20191104T182311Z
LAST-MODIFIED:20191104T182311Z
UID:588-1573779600-1573865999@falla374.com
SUMMARY:Junta General\, novembre 2019
DESCRIPTION:
URL:https://falla374.com/acte/junta-general-novembre-2019
LOCATION:Falla Pere Cabanes – Joan XXIII\, Calle Pintora Manuela Ballester\, Valencia\, Valencia\, 46025\, España
ATTACH;FMTTYPE=image/png:https://falla374.com/wp-content/uploads/2019/11/Junta-General.png
END:VEVENT
BEGIN:VEVENT
DTSTART;VALUE=DATE:20191115
DTEND;VALUE=DATE:20191117
DTSTAMP:20260422T124411
CREATED:20191104T181555Z
LAST-MODIFIED:20191104T181555Z
UID:584-1573779600-1573865999@falla374.com
SUMMARY:'Garín\, 200 anys d'història' (Jornades Culturals 2020)
DESCRIPTION:
URL:https://falla374.com/acte/garin-200-anys-dhistoria-jornades-culturals-2020
LOCATION:Falla Pere Cabanes – Joan XXIII\, Calle Pintora Manuela Ballester\, Valencia\, Valencia\, 46025\, España
ATTACH;FMTTYPE=image/png:https://falla374.com/wp-content/uploads/2019/11/Carteles-Jornadas-Culturales-2019-2020-3.png
END:VEVENT
BEGIN:VEVENT
DTSTART;VALUE=DATE:20191108
DTEND;VALUE=DATE:20191110
DTSTAMP:20260422T124411
CREATED:20191104T181213Z
LAST-MODIFIED:20191104T181213Z
UID:575-1573174800-1573261199@falla374.com
SUMMARY:Festa Germanor Benicampa
DESCRIPTION:
URL:https://falla374.com/acte/festa-germanor-benicampa
LOCATION:Sala Jerusalem\, Caller Convento Jerusalén\, Valencia\, Valencia\, España
ATTACH;FMTTYPE=image/jpeg:https://falla374.com/wp-content/uploads/2019/11/WhatsApp-Image-2019-10-08-at-12.05.38.jpeg
END:VEVENT
BEGIN:VEVENT
DTSTART;VALUE=DATE:20191108
DTEND;VALUE=DATE:20191110
DTSTAMP:20260422T124411
CREATED:20191104T181043Z
LAST-MODIFIED:20191104T181043Z
UID:572-1573174800-1573261199@falla374.com
SUMMARY:Presentació Esbossos 2020
DESCRIPTION:
URL:https://falla374.com/acte/presentacio-esbossos-2020
LOCATION:Falla Pere Cabanes – Joan XXIII\, Calle Pintora Manuela Ballester\, Valencia\, Valencia\, 46025\, España
ATTACH;FMTTYPE=image/png:https://falla374.com/wp-content/uploads/2019/11/Carteles-Jornadas-Culturales-2019-2020-2.png
END:VEVENT
BEGIN:VEVENT
DTSTART;VALUE=DATE:20191104
DTEND;VALUE=DATE:20191113
DTSTAMP:20260422T124411
CREATED:20191104T182446Z
LAST-MODIFIED:20191104T182446Z
UID:591-1572829200-1573520399@falla374.com
SUMMARY:Jornades Culturals 'Pepe Monforte' de Benicampa
DESCRIPTION:
URL:https://falla374.com/acte/jornades-culturals-pepe-monforte-de-benicampa
LOCATION:Valencia
ATTACH;FMTTYPE=image/jpeg:https://falla374.com/wp-content/uploads/2019/11/Pepe-monforte.jpg
END:VEVENT
BEGIN:VEVENT
DTSTART;VALUE=DATE:20191031
DTEND;VALUE=DATE:20191102
DTSTAMP:20260422T124411
CREATED:20191007T171355Z
LAST-MODIFIED:20191007T171417Z
UID:388-1572483600-1572569999@falla374.com
SUMMARY:Halloween 2019
DESCRIPTION:El 31 d’octubre celebrarem Halloween amb festa per a comissió infantil i major al nostre casal\, de vesprada i nit
URL:https://falla374.com/acte/halloween-2019
LOCATION:Valencia
END:VEVENT
BEGIN:VEVENT
DTSTART;VALUE=DATE:20191026
DTEND;VALUE=DATE:20191028
DTSTAMP:20260422T124411
CREATED:20191007T171059Z
LAST-MODIFIED:20191007T171422Z
UID:386-1572051600-1572137999@falla374.com
SUMMARY:Proclamació Fallera Major 2020
DESCRIPTION:Cóctel i acte de Proclamació de nostra Fallera Major 2020\, Sara Martínez Guillem. \nL’acte serà al casal\, de nit\, per a tota la comissió major.
URL:https://falla374.com/acte/proclamacio-fallera-major-2020
LOCATION:Valencia
END:VEVENT
BEGIN:VEVENT
DTSTART;VALUE=DATE:20191019
DTEND;VALUE=DATE:20191021
DTSTAMP:20260422T124411
CREATED:20191007T171021Z
LAST-MODIFIED:20191007T171021Z
UID:384-1571446800-1571533199@falla374.com
SUMMARY:Proclamació Fallera Major Infantil 2020
DESCRIPTION:Berenar de gala i acte de Proclamació de nostra Fallera Major Infantil 2020\, Amparo Roque García. \nL’acte serà al casal\, de vesprada\, per a tota la comissió infantil.
URL:https://falla374.com/acte/proclamacio-fallera-major-infantil-2020
LOCATION:Valencia
END:VEVENT
BEGIN:VEVENT
DTSTART;VALUE=DATE:20190728
DTEND;VALUE=DATE:20190730
DTSTAMP:20260422T124411
CREATED:20190722T150022Z
LAST-MODIFIED:20190722T150022Z
UID:304-1564275600-1564361999@falla374.com
SUMMARY:Batalla de Flors
DESCRIPTION:Per segon any consecutiu la compra on line de les llotges per a la Batalla de Flors de la Gran Fira de València es realitzarà per sorteig\, garantint així la igualtat d’oportunitats entre totes les persones interessades. Este divendres\, dia 19\, a les 12 del migdia s’obrirà el termini per a inscriure’s en eixe sorteig. \nEl procés d’inscripció conclourà la nit de dilluns\, dia 22\, a les 24 hores. Per participar al sorteig les persones interessades hauran d’emplenar amb les seues dades personals un formulari al web www.batalladeflors.com. Rebran un número únic per a participar al sorteig\, que se celebrarà el pròxim dimarts\, dia 23\, davant notari a la sala de premsa de l’Ajuntament de València.
URL:https://falla374.com/acte/batalla-de-flors
LOCATION:Passeig de l’Albereda\, Passeig de l'Albereda\, Valencia\, Valencia\, España
ATTACH;FMTTYPE=image/jpeg:https://falla374.com/wp-content/uploads/2019/07/Batalla.jpg
END:VEVENT
BEGIN:VEVENT
DTSTART;VALUE=DATE:20190727
DTEND;VALUE=DATE:20190729
DTSTAMP:20260422T124411
CREATED:20190722T145827Z
LAST-MODIFIED:20190722T151728Z
UID:300-1564189200-1564275599@falla374.com
SUMMARY:Sopar de la Punxà
DESCRIPTION:Com és habitual\, els tiquets del sopar de la Punxà s’estan venent en el bar del pavelló nord del Palau de la Música. Tenen un preu de 10 euros. La venda en el bar del pavelló nord del Palau es farà fins dijous dia 25 de juliol en horari de 18:00 a 00:00 hores. \nEl sopar de la punxà tindrà lloc el 27 de juliol a les 21:30 hores\, es tracta de l’última vetlada abans del majestuós final de la Fira de juliol en la Batalla de les Flors. Els artistes de les carrosses es reuneixen als diferents tallers per a donar el toc final a les seues creacions. Els fallers\, disposats a animar-los i a no perdre’s una nit única\, els acompanyen a taules col·locades a través dels emblemàtics carrers que formen la Ciutat de l’Artista Faller.
URL:https://falla374.com/acte/sopar-de-la-punxa-2020
LOCATION:Ciutat de l’Artista Faller\, Ciutat del Artista Faller\, Valencia\, Valencia\, España
ATTACH;FMTTYPE=image/jpeg:https://falla374.com/wp-content/uploads/2019/07/punx.jpg
END:VEVENT
END:VCALENDAR